BEGIN:VCALENDAR
VERSION:2.0
PRODID:-//Social Current - ECPv6.15.20//NONSGML v1.0//EN
CALSCALE:GREGORIAN
METHOD:PUBLISH
X-WR-CALNAME:Social Current
X-ORIGINAL-URL:https://www.social-current.org
X-WR-CALDESC:Events for Social Current
REFRESH-INTERVAL;VALUE=DURATION:PT1H
X-Robots-Tag:noindex
X-PUBLISHED-TTL:PT1H
BEGIN:VTIMEZONE
TZID:America/New_York
BEGIN:DAYLIGHT
TZOFFSETFROM:-0500
TZOFFSETTO:-0400
TZNAME:EDT
DTSTART:20250309T070000
END:DAYLIGHT
BEGIN:STANDARD
TZOFFSETFROM:-0400
TZOFFSETTO:-0500
TZNAME:EST
DTSTART:20251102T060000
END:STANDARD
BEGIN:DAYLIGHT
TZOFFSETFROM:-0500
TZOFFSETTO:-0400
TZNAME:EDT
DTSTART:20260308T070000
END:DAYLIGHT
BEGIN:STANDARD
TZOFFSETFROM:-0400
TZOFFSETTO:-0500
TZNAME:EST
DTSTART:20261101T060000
END:STANDARD
BEGIN:DAYLIGHT
TZOFFSETFROM:-0500
TZOFFSETTO:-0400
TZNAME:EDT
DTSTART:20270314T070000
END:DAYLIGHT
BEGIN:STANDARD
TZOFFSETFROM:-0400
TZOFFSETTO:-0500
TZNAME:EST
DTSTART:20271107T060000
END:STANDARD
END:VTIMEZONE
BEGIN:VEVENT
DTSTART;TZID=America/New_York:20260617T133000
DTEND;TZID=America/New_York:20260617T150000
DTSTAMP:20260423T145710
CREATED:20260423T141520Z
LAST-MODIFIED:20260423T141522Z
UID:30971-1781703000-1781708400@www.social-current.org
SUMMARY:Aggregating Data for PQI: Analyzing Results to Improve Programs
DESCRIPTION:Register				\n							\n		This training will focus on how to collect\, organize\, and use aggregate data to better understand program performance and support performance and quality improvement (PQI). Participants will learn practical approaches for combining data across administration\, programs\, and services to identify trends\, measure progress toward outcomes\, and inform decision making. \nThis training is designed for organizations that are building or strengthening their PQI systems. Staff who are new to developing outcomes and outputs should first attend the virtual training\, Outcomes and Outputs: Building Meaningful Measures for PQI\, June 17 from 11 a.m.-12:30 p.m. ET\, to gain foundational knowledge on effective data collection and analysis. These two trainings build on the introductory PQI training that is offered quarterly. \nTakeaways\n\nBenefits of aggregating data\nUnderstand the process and practice through group exercises\nWhat aggregate data is and why it is important for PQI\nIdentify common methods for collecting and organizing data across programs\, services\, or reporting periods\nHow to analyze aggregate data to identify trends\, patterns\, and areas for improvement\nUse aggregated outcomes and outputs to demonstrate program effectiveness and support accreditation requirements\n\nWho Should Participate\n\nStaff at organizations pursuing first-time accreditation and new primary contacts\nPQI directors\, coordinators\, and staff responsible for collecting and analyzing program data\nStaff responsible for aggregating data across programs\, services\, or locations\nThose needing guidance on organizing\, summarizing\, and interpreting aggregated data for PQI and reporting purposes\n\n	\n\n					\n\n										\n		\n	\n\n\n	\n		\n					\n\n									\n					\n						\n															\n													\n							\n								Phyllis Richards\n								\n																	Director of Practice Excellence\nSocial Current \n								\n								\n							\n						\n					\n\n				\n			\n			\n\n\n\n\n\n\n\n\n\n\n\n\n	\n		\n\n			\n			\n\n							\n					\n						Additional COA Accreditation Trainings					\n				\n			\n			\n				\n											\n\n	\n	\n		\n			Apr		\n		\n			6		\n	\n\n\n	\n		\n			\n\n				\n					\n		\n		10:00 am – 1:00 pm  EDT 	\n	\n					\n	\n		Outcomes and Outputs: Foundations for Performance and Quality Improvement	\n\n				\n\n				\n			\n		\n	\n\n\n											\n\n	\n	\n		\n			Apr		\n		\n			6		\n	\n\n\n	\n		\n			\n\n				\n					\n		\n		10:00 am – 1:00 pm  EDT 	\n	\n					\n	\n		Aggregating Data for PQI: Analyzing Results to Improve Programs	\n\n				\n\n				\n			\n		\n	\n\n\n											\n\n	\n	\n		\n			Oct		\n		\n			5		\n	\n\n\n	\n		\n			\n\n				\n					\n		\n		9:00 am – 12:00 pm  EDT 	\n	\n					\n	\n		Intensive Accreditation Training (IAT)	\n\n				\n\n				\n			\n		\n	\n\n\n											\n\n	\n	\n		\n			Oct		\n		\n			5		\n	\n\n\n	\n		\n			\n\n				\n					\n		\n		1:00 pm – 4:00 pm  EDT 	\n	\n					\n	\n		Performance and Quality Improvement (PQI)	\n\n				\n\n				\n			\n		\n	\n\n\n											\n\n	\n	\n		\n			Dec		\n		\n			1		\n	\n\n\n	\n		\n			\n\n				\n					\n		\n		10:00 am – 1:00 pm  EST 	\n	\n					\n	\n		Intensive Accreditation Training (IAT)	\n\n				\n\n				\n			\n		\n	\n\n\n											\n\n	\n	\n		\n			Dec		\n		\n			1		\n	\n\n\n	\n		\n			\n\n				\n					\n		\n		1:30 pm – 4:30 pm  EST 	\n	\n					\n	\n		Performance and Quality Improvement (PQI)	\n\n				\n\n				\n			\n		\n	\n\n\n									\n\n				\n	\n		View Calendar
URL:https://www.social-current.org/event/aggregating-data-for-pqi-analyzing-results-to-improve-programs/
CATEGORIES:Training,COA Accreditation Trainings
ATTACH;FMTTYPE=image/png:https://www.social-current.org/wp-content/uploads/2022/01/COA-Accredited-Webinar-Catalog-Image.png
END:VEVENT
END:VCALENDAR