BEGIN:VCALENDAR
VERSION:2.0
PRODID:-//Social Current - ECPv6.15.20//NONSGML v1.0//EN
CALSCALE:GREGORIAN
METHOD:PUBLISH
X-WR-CALNAME:Social Current
X-ORIGINAL-URL:https://www.social-current.org
X-WR-CALDESC:Events for Social Current
REFRESH-INTERVAL;VALUE=DURATION:PT1H
X-Robots-Tag:noindex
X-PUBLISHED-TTL:PT1H
BEGIN:VTIMEZONE
TZID:America/New_York
BEGIN:DAYLIGHT
TZOFFSETFROM:-0500
TZOFFSETTO:-0400
TZNAME:EDT
DTSTART:20210314T070000
END:DAYLIGHT
BEGIN:STANDARD
TZOFFSETFROM:-0400
TZOFFSETTO:-0500
TZNAME:EST
DTSTART:20211107T060000
END:STANDARD
BEGIN:DAYLIGHT
TZOFFSETFROM:-0500
TZOFFSETTO:-0400
TZNAME:EDT
DTSTART:20220313T070000
END:DAYLIGHT
BEGIN:STANDARD
TZOFFSETFROM:-0400
TZOFFSETTO:-0500
TZNAME:EST
DTSTART:20221106T060000
END:STANDARD
BEGIN:DAYLIGHT
TZOFFSETFROM:-0500
TZOFFSETTO:-0400
TZNAME:EDT
DTSTART:20230312T070000
END:DAYLIGHT
BEGIN:STANDARD
TZOFFSETFROM:-0400
TZOFFSETTO:-0500
TZNAME:EST
DTSTART:20231105T060000
END:STANDARD
END:VTIMEZONE
BEGIN:VEVENT
DTSTART;TZID=America/New_York:20220210T120000
DTEND;TZID=America/New_York:20220210T130000
DTSTAMP:20260423T023520
CREATED:20211214T221343Z
LAST-MODIFIED:20220110T145725Z
UID:13067-1644494400-1644498000@www.social-current.org
SUMMARY:Building Healthier Communities: The Power of Technology to Facilitate Community Investment
DESCRIPTION:Register				\n							\n		In recognizing the important role that the social determinants play in health outcomes\, the U.S. has shifted increasing attention over the past decade toward screening for social needs\, referring to appropriate social service providers\, and paying for community-based services that address the social determinants of health. \nFor community-based organizations to take advantage of the momentum in this space\, new technologies are needed to maximize investment in community services\, while minimizing the complexity\, extra burden\, and medicalization of community services. \nThis webinar will cover the challenges and opportunities of integrating sectors and focus on how technology can play a critical role in increasingly bringing together funding streams to sustainably fund the services needed to improve community health and well-being. \nThis webinar is offered in partnership with SPARK 2021 sponsor\, Unite Us. Learn more about Unite Us online. \nTakeaways\n\nMomentum around the U.S. increasingly realizing the importance of funding community-based organizations for their ability to improve the social determinants of health\nNew models of funding and the testing of sustainable solutions\nHow technology can facilitate the braiding and blending of funding to create more efficient\, sustainable funding for community-based organizations\n\nWho Should Participate\nThis webinar is appropriate for executives and directors of community-based organizations\, funders\, and other organizations interested in trends in funding community-based services and innovations that can make funding streams more sustainable and efficient. \n	\n\n					\n\n										\n		\n	\n\n\n	\n				\n			\n				Presenter\n			\n		\n		\n					\n\n									\n					\n						\n															\n													\n							\n								Melissa Sherry\, PhD\, MPH\n								\n																	Vice President\, Social Care Integration \nUnite Us \n								\n																										Biography\n									\n										\n											\n												\n													\n														\n													\n												\n												\n													\n														\n															\n																\n	                              	\n																																					\n																																			\n																	\n																		\n																			Melissa Sherry\, PhD\, MPH\n																																							Vice President\, Social Care Integration \nUnite Us \n																																						\n																				Dr. Melissa Sherry is the vice president of social care integration at Unite Us\, and adjunct faculty in the Johns Hopkins School of Medicine’s Division of General Internal Medicine. In her role at Unite Us\, Sherry works to design payments technology and services to increase funding for social care and community capacity building\, and leads research and evaluation efforts to measure the value of social care investments. She previously served as the director of population health innovation and transformation at Johns Hopkins HealthCare\, where she implemented population health management strategies focused on addressing the social determinants of health. Sherry specializes in translating evidence into meaningful and actionable strategies to drive value for healthcare entities and for communities\, with a focus on long-term sustainability. \nSherry has spent her career working on population health management and public health strengthening initiatives both domestically and internationally\, including work in Africa\, the Middle East\, Latin America\, and Europe. Sherry has worked with organizations such as the World Health Organization\, Jhpiego\, and Johns Hopkins International on initiatives to strengthen health care systems and improve population health\, and has authored manuscripts and book chapters on topics related to strengthening population health through community engagement\, cross sector partnerships and creating evidence for action. \nSherry holds a master’s in public health with a focus on health systems\, a certificate in global health\, and a doctorate from the Department of Health Policy and Management at the Johns Hopkins Bloomberg School of Public Health. Sherry also holds bachelor’s degrees from The Ohio State University.
URL:https://www.social-current.org/event/building-healthier-communities-the-power-of-technology-to-facilitate-community-investment/
CATEGORIES:Webinar
ATTACH;FMTTYPE=image/png:https://www.social-current.org/wp-content/uploads/2021/12/Building-Healthier-Communities-Unite-Us.png
END:VEVENT
END:VCALENDAR