BEGIN:VCALENDAR
VERSION:2.0
PRODID:-//Social Current - ECPv6.15.20//NONSGML v1.0//EN
CALSCALE:GREGORIAN
METHOD:PUBLISH
X-WR-CALNAME:Social Current
X-ORIGINAL-URL:https://www.social-current.org
X-WR-CALDESC:Events for Social Current
REFRESH-INTERVAL;VALUE=DURATION:PT1H
X-Robots-Tag:noindex
X-PUBLISHED-TTL:PT1H
BEGIN:VTIMEZONE
TZID:America/New_York
BEGIN:DAYLIGHT
TZOFFSETFROM:-0500
TZOFFSETTO:-0400
TZNAME:EDT
DTSTART:20210314T070000
END:DAYLIGHT
BEGIN:STANDARD
TZOFFSETFROM:-0400
TZOFFSETTO:-0500
TZNAME:EST
DTSTART:20211107T060000
END:STANDARD
BEGIN:DAYLIGHT
TZOFFSETFROM:-0500
TZOFFSETTO:-0400
TZNAME:EDT
DTSTART:20220313T070000
END:DAYLIGHT
BEGIN:STANDARD
TZOFFSETFROM:-0400
TZOFFSETTO:-0500
TZNAME:EST
DTSTART:20221106T060000
END:STANDARD
BEGIN:DAYLIGHT
TZOFFSETFROM:-0500
TZOFFSETTO:-0400
TZNAME:EDT
DTSTART:20230312T070000
END:DAYLIGHT
BEGIN:STANDARD
TZOFFSETFROM:-0400
TZOFFSETTO:-0500
TZNAME:EST
DTSTART:20231105T060000
END:STANDARD
END:VTIMEZONE
BEGIN:VEVENT
DTSTART;TZID=America/New_York:20220811T140000
DTEND;TZID=America/New_York:20220811T153000
DTSTAMP:20260423T072837
CREATED:20220629T190909Z
LAST-MODIFIED:20220629T190916Z
UID:15482-1660226400-1660231800@www.social-current.org
SUMMARY:Challenging the Indian Child Welfare Act and Tribal Sovereignty
DESCRIPTION:Register				\n							\n		The Indian Child Welfare Act (ICWA) is regarded by experts in the field as the “gold standard” in child welfare best practice\, creating much-needed reform on practices that separated Native children from their families. And it is still critically important today given the continued overrepresentation of Native children in the child welfare system due to systemic and intergenerational trauma and neglect\, as well as structural bias. \nUrgently\, ICWA faces new\, pressing challenges today from opponents who maliciously argue that the law is racist and unconstitutional because it creates a different set of rules for Native children. This is a blatant and intentional misunderstanding of tribal sovereignty\, and an attempt to use ICWA as a backdoor to ultimately undermine the rights of tribes in areas like land\, natural resources\, and gaming. \nIn this conversational webinar\, Dr. Sarah Kastelic (Alutiiq)\, executive director of the National Indian Child Welfare Association\, will review the history of ICWA\, the mechanisms it uses to keep Native children connected to the people and places they come from\, and the continued need for strong ICWA protections to support Native children and families today. Dr. Kastelic will discuss with Social Current President and CEO Jody Levison-Johnson and webinar attendees what tribal sovereignty means\, explore how ICWA is connected to tribal sovereignty and why opponents of ICWA are seeking to dismantle tribal rights\, and share what you can do today to stand up for the rights of Native children and families and protect tribal sovereignty. \nAbout the Indian Child Welfare Act \nThe Indian Child Welfare Act (ICWA) was passed by Congress in 1978 in response to a family separation crisis. Research at that time found that 25%-35% of all American Indian and Alaska Native children were separated from their parents\, extended families\, and communities by state child welfare and private adoption agencies\, compounding nearly 200 years of active cultural genocide through the boarding school system that began in the early 1800s. ICWA put child welfare best practice into law to reverse these devastating practices. \nUnder ICWA\, placement with extended families and tribal communities whenever possible gives children a connection to the people and places they come from\, protecting Native children’s sense of identity\, familial networks\, and sense of belonging—things that all children need to thrive. But ICWA is under threat: In the Brackeen v. Haaland U.S. Supreme Court case that will be argued in 2022\, a small group of opponents to ICWA will argue before the Court that these protections should be taken away from Native children—and their challenge will have far-reaching impacts for tribal sovereignty. \nTakeaways\n\nWhy ICWA was passed and its continued importance today\nWhat tribal sovereignty is and the connections between ICWA and tribal sovereignty\nWhy opponents of ICWA are interested in challenging tribal sovereignty and undermining the rights of tribes\nWhat you can do to stand up for ICWA and for tribal sovereignty\n\nWho Should Participate\n\nSocial service program leadership\nSocial service providers and providers from allied fields—behavioral health\, juvenile justice\, etc.\nChildren and family advocates\n\n	\n\n					\n\n										\n		\n	\n\n\n	\n				\n			\n				Presenters\n			\n		\n		\n					\n\n									\n					\n						\n															\n													\n							\n								Jody Levison-Johnson\n								\n																	CEO\,\nSocial Current \n								\n								\n							\n						\n					\n\n									\n					\n						\n															\n													\n							\n								Sarah Kastelic (Alutiiq)\n								\n																	Executive Director\,\nNational Indian Child Welfare Association (NICWA) \n								\n																										Biography\n									\n										\n											\n												\n													\n														\n													\n												\n												\n													\n														\n															\n																\n	                              	\n																																					\n																																			\n																	\n																		\n																			Sarah Kastelic (Alutiiq)\n																																							Executive Director\,\nNational Indian Child Welfare Association (NICWA) \n																																						\n																				Dr. Sarah Kastelic (Alutiiq)\, an enrolled citizen of the Native Village of Ouzinkie\, became the executive director of the National Indian Child Welfare Association (NICWA) in January 2015. Prior to joining NICWA as chief of staff in 2011\, Sarah led the National Congress of American Indians’ (NCAI) welfare reform program and\, in 2003\, was the founding director of NCAI’s Policy Research Center. She began her career at the Bureau of Indian Affairs central office as a child welfare specialist in 1998. \nSarah earned a master’s and doctorate from the Brown School of Social Work at Washington University in St. Louis\, where she serves as adjunct faculty. Sarah has served as principal investigator of several national federally and privately funded research projects\, partnering with tribally based and urban Indian communities. She has authored numerous publications\, including journal articles\, book chapters\, and curricula. She is a member of the boards of directors of Independent Sector\, Generations United\, Native Ways Federation\, and Underscore.
URL:https://www.social-current.org/event/challenging-the-indian-child-welfare-act-and-tribal-sovereignty/
CATEGORIES:Webinar
ATTACH;FMTTYPE=image/jpeg:https://www.social-current.org/wp-content/uploads/2022/06/Three-Children-Grass.jpg
END:VEVENT
END:VCALENDAR