BEGIN:VCALENDAR
VERSION:2.0
PRODID:-//Social Current - ECPv6.15.20//NONSGML v1.0//EN
CALSCALE:GREGORIAN
METHOD:PUBLISH
X-WR-CALNAME:Social Current
X-ORIGINAL-URL:https://www.social-current.org
X-WR-CALDESC:Events for Social Current
REFRESH-INTERVAL;VALUE=DURATION:PT1H
X-Robots-Tag:noindex
X-PUBLISHED-TTL:PT1H
BEGIN:VTIMEZONE
TZID:America/New_York
BEGIN:DAYLIGHT
TZOFFSETFROM:-0500
TZOFFSETTO:-0400
TZNAME:EDT
DTSTART:20220313T070000
END:DAYLIGHT
BEGIN:STANDARD
TZOFFSETFROM:-0400
TZOFFSETTO:-0500
TZNAME:EST
DTSTART:20221106T060000
END:STANDARD
BEGIN:DAYLIGHT
TZOFFSETFROM:-0500
TZOFFSETTO:-0400
TZNAME:EDT
DTSTART:20230312T070000
END:DAYLIGHT
BEGIN:STANDARD
TZOFFSETFROM:-0400
TZOFFSETTO:-0500
TZNAME:EST
DTSTART:20231105T060000
END:STANDARD
BEGIN:DAYLIGHT
TZOFFSETFROM:-0500
TZOFFSETTO:-0400
TZNAME:EDT
DTSTART:20240310T070000
END:DAYLIGHT
BEGIN:STANDARD
TZOFFSETFROM:-0400
TZOFFSETTO:-0500
TZNAME:EST
DTSTART:20241103T060000
END:STANDARD
END:VTIMEZONE
BEGIN:VEVENT
DTSTART;TZID=America/New_York:20231015T130000
DTEND;TZID=America/New_York:20231015T170000
DTSTAMP:20260423T064425
CREATED:20230512T162657Z
LAST-MODIFIED:20231012T150933Z
UID:20252-1697374800-1697389200@www.social-current.org
SUMMARY:Hardwired for Fear\, Hardwired for Connection: The Intersection of Brain Science and EDI
DESCRIPTION:Registration for this pre-conference session of SPARK 2023 is now closed. \nThis session will focus on the intersection of brain science and equity\, diversity\, and inclusion (EDI). During this workshop we will build a shared understanding of foundational brain science and EDI concepts\, and consider key frameworks\, research\, and application tools that help bridge the gap between these two topics. Through thought-provoking discussion and small group work\, we will deepen our awareness of how EDI and brain science are intertwined and relevant to the EDI journey at all levels—personal\, organizational\, and systemic. \nThis session will explore these key topics: \n\nHow brain architecture influences unconscious biases\nThe areas of our nervous system that are activated when we discuss\, experience\, or perpetrate racism\nHow brain-aware perspectives can lead to increased cultural humility\nHow we can advance EDI in our organizations’ cultures via brain-friendly strategies\nHow power affects empathy\nThe mindsets and practices in our sector need to be shifted so that we can accelerate healing and growth in ourselves\, our workforce\, and our communities\n\nLearning Objectives\n\nDescribe key concepts related to basic brain architecture and development\nIdentify foundational components of systemic racism and how they are embedded throughout our sector and workplace cultures\nAnalyze how brain science and EDI intersect across the continuum of the EDI journey—personal\, organizational\, and systemic\nConsider how to apply brain-science infused EDI tools\, concepts\, and practices into daily work environment\n\n	\n\n					\n\n										\n		\n	\n\n\n	\n				\n			\n				Presenters\n			\n		\n		\n					\n\n									\n					\n						\n															\n													\n							\n								Undraye Howard\n								\n																	Vice President of Equity\, Diversity\, Inclusion\, and Engagement\nSocial Current \n								\n								\n							\n						\n					\n\n									\n					\n						\n															\n													\n							\n								Romero Davis\n								\n																	Senior Program Manager\nSocial Current \n								\n								\n							\n						\n					\n\n									\n					\n						\n															\n													\n							\n								Karen Johnson\n								\n																	Senior Director of Change in Mind\nSocial Current
URL:https://www.social-current.org/event/hardwired-for-fear-hardwired-for-connection-the-intersection-of-brain-science-and-edi/
LOCATION:Hyatt Regency Bethesda\, One Bethesda Metro Center\, 7400 Wisconsin Ave.\, Bethesda\, Maryland\, 20814
CATEGORIES:Training
ATTACH;FMTTYPE=image/png:https://www.social-current.org/wp-content/uploads/2023/05/SPARK_Pre_Conference_EDI-e1683913281220.png
END:VEVENT
END:VCALENDAR