BEGIN:VCALENDAR
VERSION:2.0
PRODID:-//Social Current - ECPv6.15.20//NONSGML v1.0//EN
CALSCALE:GREGORIAN
METHOD:PUBLISH
X-WR-CALNAME:Social Current
X-ORIGINAL-URL:https://www.social-current.org
X-WR-CALDESC:Events for Social Current
REFRESH-INTERVAL;VALUE=DURATION:PT1H
X-Robots-Tag:noindex
X-PUBLISHED-TTL:PT1H
BEGIN:VTIMEZONE
TZID:America/New_York
BEGIN:DAYLIGHT
TZOFFSETFROM:-0500
TZOFFSETTO:-0400
TZNAME:EDT
DTSTART:20210314T070000
END:DAYLIGHT
BEGIN:STANDARD
TZOFFSETFROM:-0400
TZOFFSETTO:-0500
TZNAME:EST
DTSTART:20211107T060000
END:STANDARD
BEGIN:DAYLIGHT
TZOFFSETFROM:-0500
TZOFFSETTO:-0400
TZNAME:EDT
DTSTART:20220313T070000
END:DAYLIGHT
BEGIN:STANDARD
TZOFFSETFROM:-0400
TZOFFSETTO:-0500
TZNAME:EST
DTSTART:20221106T060000
END:STANDARD
BEGIN:DAYLIGHT
TZOFFSETFROM:-0500
TZOFFSETTO:-0400
TZNAME:EDT
DTSTART:20230312T070000
END:DAYLIGHT
BEGIN:STANDARD
TZOFFSETFROM:-0400
TZOFFSETTO:-0500
TZNAME:EST
DTSTART:20231105T060000
END:STANDARD
END:VTIMEZONE
BEGIN:VEVENT
DTSTART;TZID=America/New_York:20220915T080000
DTEND;TZID=America/New_York:20220915T120000
DTSTAMP:20260423T064259
CREATED:20220615T194431Z
LAST-MODIFIED:20220909T152511Z
UID:15291-1663228800-1663243200@www.social-current.org
SUMMARY:Intensive Accreditation Training (IAT)
DESCRIPTION:This workshop is a post-conference session of the SPARK 2022 conference. \nThe Intensive Accreditation Training (IAT) is designed to prepare organizations to get the most out of their COA Accreditation experience. Topics discussed in this training include: \n\nAn in-depth overview of the COA Accreditation process\, including key milestones\nAn overview of accreditation standards and the relationship between standards\, evidence\, and the rating indicators\nHow ratings are assigned by the volunteer review team and insight on the accreditation decision-making process\nTips on how to get organized and manage the work\nHow to prepare for the site visit\n\nLearn more about COA Accreditation\, a service of Social Current\, and how to get started online. \n2022 Intensive Accreditation Trainings\nThis training will be offered five times in 2022. Register now for any session: \n\nFeb. 28\nApril 25\nJune 27\nSept. 15 in Baltimore as a post-conference session of SPARK 2022\nDec. 12\n\nWho Should Participate\n\nOrganization primary contacts\nSenior leaders at organizations seeking COA Accreditation\nOther staff involved in an organization’s accreditation process
URL:https://www.social-current.org/event/intensive-accreditation-training-iat/
LOCATION:Hilton Baltimore Inner Harbor\, 401 West Pratt St.\, Baltimore\, MD\, 21201\, United States
CATEGORIES:Training
ATTACH;FMTTYPE=image/png:https://www.social-current.org/wp-content/uploads/2022/06/Copy-of-Template-Webinar-Catalog-Image-Background-6-1.png
END:VEVENT
END:VCALENDAR