BEGIN:VCALENDAR
VERSION:2.0
PRODID:-//Social Current - ECPv6.15.20//NONSGML v1.0//EN
CALSCALE:GREGORIAN
METHOD:PUBLISH
X-WR-CALNAME:Social Current
X-ORIGINAL-URL:https://www.social-current.org
X-WR-CALDESC:Events for Social Current
REFRESH-INTERVAL;VALUE=DURATION:PT1H
X-Robots-Tag:noindex
X-PUBLISHED-TTL:PT1H
BEGIN:VTIMEZONE
TZID:America/New_York
BEGIN:DAYLIGHT
TZOFFSETFROM:-0500
TZOFFSETTO:-0400
TZNAME:EDT
DTSTART:20250309T070000
END:DAYLIGHT
BEGIN:STANDARD
TZOFFSETFROM:-0400
TZOFFSETTO:-0500
TZNAME:EST
DTSTART:20251102T060000
END:STANDARD
BEGIN:DAYLIGHT
TZOFFSETFROM:-0500
TZOFFSETTO:-0400
TZNAME:EDT
DTSTART:20260308T070000
END:DAYLIGHT
BEGIN:STANDARD
TZOFFSETFROM:-0400
TZOFFSETTO:-0500
TZNAME:EST
DTSTART:20261101T060000
END:STANDARD
BEGIN:DAYLIGHT
TZOFFSETFROM:-0500
TZOFFSETTO:-0400
TZNAME:EDT
DTSTART:20270314T070000
END:DAYLIGHT
BEGIN:STANDARD
TZOFFSETFROM:-0400
TZOFFSETTO:-0500
TZNAME:EST
DTSTART:20271107T060000
END:STANDARD
END:VTIMEZONE
BEGIN:VEVENT
DTSTART;TZID=America/New_York:20260617T110000
DTEND;TZID=America/New_York:20260617T123000
DTSTAMP:20260423T145849
CREATED:20260423T141329Z
LAST-MODIFIED:20260423T174644Z
UID:30969-1781694000-1781699400@www.social-current.org
SUMMARY:Outcomes and Outputs: Foundations for Performance and Quality Improvement
DESCRIPTION:Register				\n							\n		This virtual training will focus on how to develop meaningful outcomes and outputs and utilize them to demonstrate program effectiveness and drive performance and quality Improvement (PQI). Participants will learn how to identify appropriate outcomes and outputs that align with administrative and program goals\, services\, and COA Accreditation expectations. \nThe session also will include a brief introduction to logic models as a practical tool to help organizations connect activities\, outputs\, and outcomes. Participants will explore how clearly defined outcomes and outputs can support program evaluation\, guide decision making\, and demonstrate progress toward improved services and results. \nThis training is designed especially for organizations that are building or strengthening their PQI systems. Participants are also encouraged to attend the virtual training\, Aggregating Data for PQI: Analyzing Results to Improve Programs\, June 17 from 1:30-3 p.m. ET\, to learn how to collect\, analyze\, and interpret aggregate data to support quality improvement. These two trainings build on the introductory PQI training that is offered quarterly. \nTakeaways\n\nStaff at organizations pursuing COA Accreditation for the first time and new primary contacts\nPQI directors\, coordinators\, and staff with PQI responsibilities\nStaff seeking guidance on developing\, tracking\, and using outcomes and outputs\n\nWho Should Participate\n\nThe difference between outcomes and outputs and the role each plays in PQI\nHow to identify meaningful outcomes and outputs that align with program goals and services\nHow logic models connect program activities\, outputs\, and outcomes\nMethods for using outcomes and outputs to support program evaluation\, quality improvement\, and alignment with COA Accreditation standards\n\n	\n\n					\n\n										\n		\n	\n\n\n	\n		\n					\n\n									\n					\n						\n															\n													\n							\n								Phyllis Richards\n								\n																	Director of Practice Excellence\nSocial Current \n								\n								\n							\n						\n					\n\n				\n			\n			\n\n\n\n\n\n\n\n\n\n\n\n\n	\n		\n\n			\n			\n\n							\n					\n						Additional COA Accreditation Trainings					\n				\n			\n			\n				\n											\n\n	\n	\n		\n			Apr		\n		\n			6		\n	\n\n\n	\n		\n			\n\n				\n					\n		\n		10:00 am – 1:00 pm  EDT 	\n	\n					\n	\n		Outcomes and Outputs: Foundations for Performance and Quality Improvement	\n\n				\n\n				\n			\n		\n	\n\n\n											\n\n	\n	\n		\n			Apr		\n		\n			6		\n	\n\n\n	\n		\n			\n\n				\n					\n		\n		10:00 am – 1:00 pm  EDT 	\n	\n					\n	\n		Aggregating Data for PQI: Analyzing Results to Improve Programs	\n\n				\n\n				\n			\n		\n	\n\n\n											\n\n	\n	\n		\n			Oct		\n		\n			5		\n	\n\n\n	\n		\n			\n\n				\n					\n		\n		9:00 am – 12:00 pm  EDT 	\n	\n					\n	\n		Intensive Accreditation Training (IAT)	\n\n				\n\n				\n			\n		\n	\n\n\n											\n\n	\n	\n		\n			Oct		\n		\n			5		\n	\n\n\n	\n		\n			\n\n				\n					\n		\n		1:00 pm – 4:00 pm  EDT 	\n	\n					\n	\n		Performance and Quality Improvement (PQI)	\n\n				\n\n				\n			\n		\n	\n\n\n											\n\n	\n	\n		\n			Dec		\n		\n			1		\n	\n\n\n	\n		\n			\n\n				\n					\n		\n		10:00 am – 1:00 pm  EST 	\n	\n					\n	\n		Intensive Accreditation Training (IAT)	\n\n				\n\n				\n			\n		\n	\n\n\n											\n\n	\n	\n		\n			Dec		\n		\n			1		\n	\n\n\n	\n		\n			\n\n				\n					\n		\n		1:30 pm – 4:30 pm  EST 	\n	\n					\n	\n		Performance and Quality Improvement (PQI)	\n\n				\n\n				\n			\n		\n	\n\n\n									\n\n				\n	\n		View Calendar
URL:https://www.social-current.org/event/outcomes-and-outputs-foundations-for-performance-and-quality-improvement/
CATEGORIES:Training,COA Accreditation Trainings
ATTACH;FMTTYPE=image/png:https://www.social-current.org/wp-content/uploads/2022/01/COA-Accredited-Webinar-Catalog-Image.png
END:VEVENT
END:VCALENDAR