BEGIN:VCALENDAR
VERSION:2.0
PRODID:-//Social Current - ECPv6.15.20//NONSGML v1.0//EN
CALSCALE:GREGORIAN
METHOD:PUBLISH
X-WR-CALNAME:Social Current
X-ORIGINAL-URL:https://www.social-current.org
X-WR-CALDESC:Events for Social Current
REFRESH-INTERVAL;VALUE=DURATION:PT1H
X-Robots-Tag:noindex
X-PUBLISHED-TTL:PT1H
BEGIN:VTIMEZONE
TZID:America/New_York
BEGIN:DAYLIGHT
TZOFFSETFROM:-0500
TZOFFSETTO:-0400
TZNAME:EDT
DTSTART:20210314T070000
END:DAYLIGHT
BEGIN:STANDARD
TZOFFSETFROM:-0400
TZOFFSETTO:-0500
TZNAME:EST
DTSTART:20211107T060000
END:STANDARD
BEGIN:DAYLIGHT
TZOFFSETFROM:-0500
TZOFFSETTO:-0400
TZNAME:EDT
DTSTART:20220313T070000
END:DAYLIGHT
BEGIN:STANDARD
TZOFFSETFROM:-0400
TZOFFSETTO:-0500
TZNAME:EST
DTSTART:20221106T060000
END:STANDARD
BEGIN:DAYLIGHT
TZOFFSETFROM:-0500
TZOFFSETTO:-0400
TZNAME:EDT
DTSTART:20230312T070000
END:DAYLIGHT
BEGIN:STANDARD
TZOFFSETFROM:-0400
TZOFFSETTO:-0500
TZNAME:EST
DTSTART:20231105T060000
END:STANDARD
END:VTIMEZONE
BEGIN:VEVENT
DTSTART;TZID=America/New_York:20220323T140000
DTEND;TZID=America/New_York:20220323T143000
DTSTAMP:20260423T081738
CREATED:20220120T224649Z
LAST-MODIFIED:20220404T203724Z
UID:13706-1648044000-1648045800@www.social-current.org
SUMMARY:Supporting Financially Resilient Communities: Better Money Habits® Demo with Bank of America
DESCRIPTION:Access On-Demand Webinar				\n							\n		Bank of America supports communities in becoming more financially resilient by connecting people to the tools\, resources\, and education they need to help them achieve their financial goals. Through its partnership with Khan Academy\, a leader in online learning\, Bank of America has created a simple way to get real\, practical knowledge about money. The free\, accessible tools and information on Better Money Habits® website build financial know-how so that people can make confident personal financial decisions. \nThis short webinar will give an overview of Bank of America’s Better Money Habits® tools\, which include videos\, articles\, and resources\, available in both English and Spanish. Learn how you can use these free resources to build knowledge around money and personal finance in your community. Participants will also learn how they can work with local Bank of America Better Money Habits Champions to offer targeted sessions in their communities. \nLearn more about advancing social and economic mobility so that all families and communities can thrive: \n\nSocioeconomic Mobility (Case Studies and White Papers)\nMobility Mentoring® as 2-Gen Brain Science (Webinar)\n\nTakeaways\n\nHow Better Money Habits® helps increase financial literacy among community members\nHow to navigate the Better Money Habits® website\nHow to best implement Better Money Habits® into community-based programming\nHow to connect with local Better Money Habits Champions\, if you’d like to have events (currently virtual\, but hopefully back to in person soon!)\n\nWho Should Participate\n\nVice presidents/senior directors of programs\nProgram managers\nFinancial literacy educators\nFamily/parent educators\n\n	\n\n					\n\n										\n		\n	\n\n\n	\n				\n			\n				Presenter\n			\n		\n		\n					\n\n									\n					\n						\n													\n							\n								Mary Bovalis\n								\n																	Better Money Habits Volunteer Team Lead & Treasury Product Manager\nBank of America \n								\n																										Biography\n									\n										\n											\n												\n													\n														\n													\n												\n												\n													\n														\n															\n																\n	                              	\n																																			\n																	\n																		\n																			Mary Bovalis\n																																							Better Money Habits Volunteer Team Lead & Treasury Product Manager\nBank of America \n																																						\n																				As a team lead for Bank of America’s Better Money Habits volunteer program\, Mary Bovalis recruits\, trains and supports fellow Champions as they deliver financial education across their respective regions. In her day-to-day work\, she is a treasury product manager in the commercial card division. In this role\, she helps clients integrate their financial systems with BofA’s commercial card platform and overall ecosystem. \nBovalis has more than 20 years of banking experience in financial technologies\, product development\, relationship management and sales in several disciplines including global treasury\, institutional trust and asset management. She holds a finance degree from DePaul University and lives in Chicago with her spouse and three children.
URL:https://www.social-current.org/event/supporting-financially-resilient-communities-better-money-habits-demo-with-bank-of-america/
CATEGORIES:Webinar
ATTACH;FMTTYPE=image/png:https://www.social-current.org/wp-content/uploads/2022/01/Webinar-Catalog-Image-Better-Money-Habits.png
END:VEVENT
END:VCALENDAR