BEGIN:VCALENDAR
VERSION:2.0
PRODID:-//Social Current - ECPv6.15.20//NONSGML v1.0//EN
CALSCALE:GREGORIAN
METHOD:PUBLISH
X-WR-CALNAME:Social Current
X-ORIGINAL-URL:https://www.social-current.org
X-WR-CALDESC:Events for Social Current
REFRESH-INTERVAL;VALUE=DURATION:PT1H
X-Robots-Tag:noindex
X-PUBLISHED-TTL:PT1H
BEGIN:VTIMEZONE
TZID:America/New_York
BEGIN:DAYLIGHT
TZOFFSETFROM:-0500
TZOFFSETTO:-0400
TZNAME:EDT
DTSTART:20220313T070000
END:DAYLIGHT
BEGIN:STANDARD
TZOFFSETFROM:-0400
TZOFFSETTO:-0500
TZNAME:EST
DTSTART:20221106T060000
END:STANDARD
BEGIN:DAYLIGHT
TZOFFSETFROM:-0500
TZOFFSETTO:-0400
TZNAME:EDT
DTSTART:20230312T070000
END:DAYLIGHT
BEGIN:STANDARD
TZOFFSETFROM:-0400
TZOFFSETTO:-0500
TZNAME:EST
DTSTART:20231105T060000
END:STANDARD
BEGIN:DAYLIGHT
TZOFFSETFROM:-0500
TZOFFSETTO:-0400
TZNAME:EDT
DTSTART:20240310T070000
END:DAYLIGHT
BEGIN:STANDARD
TZOFFSETFROM:-0400
TZOFFSETTO:-0500
TZNAME:EST
DTSTART:20241103T060000
END:STANDARD
END:VTIMEZONE
BEGIN:VEVENT
DTSTART;TZID=America/New_York:20231015T180000
DTEND;TZID=America/New_York:20231015T200000
DTSTAMP:20260423T064258
CREATED:20230512T164625Z
LAST-MODIFIED:20230512T191856Z
UID:20259-1697392800-1697400000@www.social-current.org
SUMMARY:Volunteer Appreciation Celebration
DESCRIPTION:COA Accreditation volunteers should RSVP by Oct. 2 by emailing Darrell Woodliff\, director of volunteer engagement at Social Current. \nWe could not do what we do without our COA Accreditation volunteers. All active COA Accreditation volunteers are invited to join us as we gather and celebrate all that you do. Catch up with colleagues\, share site visit stories from the road\, and get ready for the start of SPARK 2023. There will be dinner\, prizes\, and a host of swag – so you will not want to miss this event. \nThis reception is a pre-conference event of the SPARK 2023 conference.
URL:https://www.social-current.org/event/volunteer-appreciation-celebration/
LOCATION:Hyatt Regency Bethesda\, One Bethesda Metro Center\, 7400 Wisconsin Ave.\, Bethesda\, Maryland\, 20814
ATTACH;FMTTYPE=image/png:https://www.social-current.org/wp-content/uploads/2023/01/coa-spark23.png
END:VEVENT
END:VCALENDAR